BEGIN:VCALENDAR
VERSION:2.0
PRODID:-//SEAT Center - Social Enterprise and Training, Schenectady, NY - ECPv6.15.20//NONSGML v1.0//EN
CALSCALE:GREGORIAN
METHOD:PUBLISH
X-ORIGINAL-URL:https://www.seatcenter.org
X-WR-CALDESC:Events for SEAT Center - Social Enterprise and Training, Schenectady, NY
REFRESH-INTERVAL;VALUE=DURATION:PT1H
X-Robots-Tag:noindex
X-PUBLISHED-TTL:PT1H
BEGIN:VTIMEZONE
TZID:America/New_York
BEGIN:DAYLIGHT
TZOFFSETFROM:-0500
TZOFFSETTO:-0400
TZNAME:EDT
DTSTART:20250309T070000
END:DAYLIGHT
BEGIN:STANDARD
TZOFFSETFROM:-0400
TZOFFSETTO:-0500
TZNAME:EST
DTSTART:20251102T060000
END:STANDARD
BEGIN:DAYLIGHT
TZOFFSETFROM:-0500
TZOFFSETTO:-0400
TZNAME:EDT
DTSTART:20260308T070000
END:DAYLIGHT
BEGIN:STANDARD
TZOFFSETFROM:-0400
TZOFFSETTO:-0500
TZNAME:EST
DTSTART:20261101T060000
END:STANDARD
BEGIN:DAYLIGHT
TZOFFSETFROM:-0500
TZOFFSETTO:-0400
TZNAME:EDT
DTSTART:20270314T070000
END:DAYLIGHT
BEGIN:STANDARD
TZOFFSETFROM:-0400
TZOFFSETTO:-0500
TZNAME:EST
DTSTART:20271107T060000
END:STANDARD
END:VTIMEZONE
BEGIN:VEVENT
DTSTART;TZID=America/New_York:20260429T170000
DTEND;TZID=America/New_York:20260429T203000
DTSTAMP:20260425T165810
CREATED:20260410T063317Z
LAST-MODIFIED:20260410T183354Z
UID:6660-1777482000-1777494600@www.seatcenter.org
SUMMARY:SEAT's 10th Anniversary Event
DESCRIPTION:Please join our Co-Chairs\, Stephen Obermayer and Anne Putnam for our 10 Year Anniversary Celebration\nHosted By Carver Companies\n \n26 Corporate Circle\, Albany \nEvent Details\n5:00PM – 8:30PM\nWednesday\, April 29th\, 2026\nNetworking Cocktail Hour\nSpecial Program\nDinner\nTickets & Sponsorship Opportunities\nTickets coming soon! \nClick Here for Tickets & Sponsorship OpportunitiesRecognizing our Industry Impact Leaders\nThank you to our Corporate Sponsors\nTickets & Sponsorship Opportunities\nTickets coming soon! \nClick Here for Tickets & Sponsorship OpportunitiesSave the Date in your Calendar
URL:https://www.seatcenter.org/event/seat-10th-anniversary-event/
LOCATION:Carver Companies Global HQ\, 26 Corporate Circle\, Albany\, NY\, 12203\, United States
ATTACH;FMTTYPE=image/png:https://www.seatcenter.org/wp-content/uploads/2026/03/Workforce-Now-Website-Banner-5-scaled.png
END:VEVENT
END:VCALENDAR